BEGIN:VCALENDAR
VERSION:2.0
PRODID:-//Iron Heart Canning - ECPv6.15.20//NONSGML v1.0//EN
CALSCALE:GREGORIAN
METHOD:PUBLISH
X-ORIGINAL-URL:https://www.ironheartcanning.com
X-WR-CALDESC:Events for Iron Heart Canning
REFRESH-INTERVAL;VALUE=DURATION:PT1H
X-Robots-Tag:noindex
X-PUBLISHED-TTL:PT1H
BEGIN:VTIMEZONE
TZID:America/New_York
BEGIN:DAYLIGHT
TZOFFSETFROM:-0500
TZOFFSETTO:-0400
TZNAME:EDT
DTSTART:20220313T070000
END:DAYLIGHT
BEGIN:STANDARD
TZOFFSETFROM:-0400
TZOFFSETTO:-0500
TZNAME:EST
DTSTART:20221106T060000
END:STANDARD
BEGIN:DAYLIGHT
TZOFFSETFROM:-0500
TZOFFSETTO:-0400
TZNAME:EDT
DTSTART:20230312T070000
END:DAYLIGHT
BEGIN:STANDARD
TZOFFSETFROM:-0400
TZOFFSETTO:-0500
TZNAME:EST
DTSTART:20231105T060000
END:STANDARD
BEGIN:DAYLIGHT
TZOFFSETFROM:-0500
TZOFFSETTO:-0400
TZNAME:EDT
DTSTART:20240310T070000
END:DAYLIGHT
BEGIN:STANDARD
TZOFFSETFROM:-0400
TZOFFSETTO:-0500
TZNAME:EST
DTSTART:20241103T060000
END:STANDARD
END:VTIMEZONE
BEGIN:VEVENT
DTSTART;VALUE=DATE:20230513
DTEND;VALUE=DATE:20230514
DTSTAMP:20260423T150633
CREATED:20230213T191653Z
LAST-MODIFIED:20230213T191653Z
UID:3220-1683936000-1684022399@www.ironheartcanning.com
SUMMARY:Maryland Craft Beer Festival
DESCRIPTION:We’re thrilled to be gathering with you for this great festival DOZENS OF MARYLAND BREWERIES (including a few breweries not yet open to the public!) pouring more than 200 unique\, beers – all brewed in Maryland. In addition\, there will be live music and a great selection of food and craft vendors throughout the festival.
URL:https://www.ironheartcanning.com/event/maryland-craft-beer-festival-2/
CATEGORIES:Beer
END:VEVENT
BEGIN:VEVENT
DTSTART;VALUE=DATE:20230513
DTEND;VALUE=DATE:20230514
DTSTAMP:20260423T150633
CREATED:20230118T204841Z
LAST-MODIFIED:20230118T204841Z
UID:3189-1683936000-1684022399@www.ironheartcanning.com
SUMMARY:Maryland Craft Beer Festival
DESCRIPTION:We’re thrilled to be gathering with you for this great festival DOZENS OF MARYLAND BREWERIES (including a few breweries not yet open to the public!) pouring more than 200 unique\, beers – all brewed in Maryland. In addition\, there will be live music and a great selection of food and craft vendors throughout the festival.
URL:https://www.ironheartcanning.com/event/maryland-craft-beer-festival/
CATEGORIES:Beer
END:VEVENT
BEGIN:VEVENT
DTSTART;VALUE=DATE:20230507
DTEND;VALUE=DATE:20230511
DTSTAMP:20260423T150633
CREATED:20221230T234905Z
LAST-MODIFIED:20230213T191636Z
UID:3151-1683417600-1683763199@www.ironheartcanning.com
SUMMARY:Craft Brewers Conference
DESCRIPTION:The Craft Brewers Conference® delivers concentrated\, affordable brewing education and idea sharing to improve brewery quality and performance. Attendees can choose from eight educational tracks led by the top minds in the beer and business worlds.
URL:https://www.ironheartcanning.com/event/craft-brewers-conference-2/
CATEGORIES:Beer
END:VEVENT
BEGIN:VEVENT
DTSTART;VALUE=DATE:20230322
DTEND;VALUE=DATE:20230324
DTSTAMP:20260423T150633
CREATED:20221230T234905Z
LAST-MODIFIED:20230213T191636Z
UID:3150-1679443200-1679615999@www.ironheartcanning.com
SUMMARY:New York Craft Brewers Conference
DESCRIPTION:The NYS Brewers Conference is the fastest growing state-level brewers conference in the country. We look forward to seeing you at the Albany Capital Center in downtown Albany. There will be plenty of opportunity to learn\, gather resources and connect with industry professionals.
URL:https://www.ironheartcanning.com/event/new-york-craft-brewers-conference/
CATEGORIES:Beer
END:VEVENT
BEGIN:VEVENT
DTSTART;VALUE=DATE:20230304
DTEND;VALUE=DATE:20230305
DTSTAMP:20260423T150633
CREATED:20230118T204838Z
LAST-MODIFIED:20230213T191653Z
UID:3185-1677888000-1677974399@www.ironheartcanning.com
SUMMARY:Winter Warmer Fest
DESCRIPTION:The Ohio Craft Brewers Association presents the 16th annual Winter Warmer Fest\, returning to Windows on the River on Saturday\, March 4\, 2023 from 2-5 p.m. 50+ Ohio breweries will showcase their winter\, seasonal\, limited edition and high-gravity beers.
URL:https://www.ironheartcanning.com/event/winter-warmer-fest/
CATEGORIES:Beer
END:VEVENT
BEGIN:VEVENT
DTSTART;VALUE=DATE:20230210
DTEND;VALUE=DATE:20230211
DTSTAMP:20260423T150633
CREATED:20230118T204840Z
LAST-MODIFIED:20230213T191653Z
UID:3188-1675987200-1676073599@www.ironheartcanning.com
SUMMARY:Love Thy Beer
DESCRIPTION:In the true spirit of FeBREWary\, attendees get the opportunity to chat with the experts behind Maryland beer in an intimate setting while sampling incredible seasonal ales and lagers.
URL:https://www.ironheartcanning.com/event/love-thy-beer/
CATEGORIES:Beer
END:VEVENT
BEGIN:VEVENT
DTSTART;VALUE=DATE:20230131
DTEND;VALUE=DATE:20230201
DTSTAMP:20260423T150633
CREATED:20221230T221144Z
LAST-MODIFIED:20230213T191635Z
UID:3137-1675123200-1675209599@www.ironheartcanning.com
SUMMARY:Ohio Craft Brewers Guild Conference
DESCRIPTION:Join us at the Huntington Convention Center of Cleveland Jan. 31 – Feb. 1\, 2023 for the eighth annual Ohio Craft Brewers Conference. Enjoy educational seminars\, featured speakers\, industry vendors and awesome networking opportunities. Whether you work for an operating brewery\, have a brewery in-planning or are a craft beer industry vendor\, there’s sure to be something for everyone… and a few craft beers too!
URL:https://www.ironheartcanning.com/event/ohio-craft-brewers-guild-conference/
CATEGORIES:Beer
END:VEVENT
BEGIN:VEVENT
DTSTART;VALUE=DATE:20230111
DTEND;VALUE=DATE:20230112
DTSTAMP:20260423T150633
CREATED:20221230T221144Z
LAST-MODIFIED:20230213T191635Z
UID:3136-1673395200-1673481599@www.ironheartcanning.com
SUMMARY:Michigan's Great Beer State Trade Show
DESCRIPTION:This annual conference – presented by Michigan Brewers Guild\, Michigan State University Extension and Master Brewers Association of the Americas (MBAA) District Michigan – includes presentations by experienced professionals from within Michigan as well as from across the national craft beer community.
URL:https://www.ironheartcanning.com/event/michigans-great-beer-state-trade-show/
CATEGORIES:Beer
END:VEVENT
BEGIN:VEVENT
DTSTART;VALUE=DATE:20230110
DTEND;VALUE=DATE:20230111
DTSTAMP:20260423T150633
CREATED:20221230T221144Z
LAST-MODIFIED:20230213T191634Z
UID:3135-1673308800-1673395199@www.ironheartcanning.com
SUMMARY:Tennessee Farm to Ferment
DESCRIPTION:UT Extension\, along with the Tennessee Department of Agriculture and craft beverage industry associations and guilds will host a meeting to bring brewers\, distillers\, winemakers and industry partners together with farmers for a day of learning and networking. An industry trade show is new for 2023.
URL:https://www.ironheartcanning.com/event/tennessee-farm-to-ferment/
CATEGORIES:Beer
END:VEVENT
END:VCALENDAR