BEGIN:VCALENDAR
VERSION:2.0
PRODID:-//Iron Heart Canning - ECPv6.15.20//NONSGML v1.0//EN
CALSCALE:GREGORIAN
METHOD:PUBLISH
X-WR-CALNAME:Iron Heart Canning
X-ORIGINAL-URL:https://www.ironheartcanning.com
X-WR-CALDESC:Events for Iron Heart Canning
REFRESH-INTERVAL;VALUE=DURATION:PT1H
X-Robots-Tag:noindex
X-PUBLISHED-TTL:PT1H
BEGIN:VTIMEZONE
TZID:America/New_York
BEGIN:DAYLIGHT
TZOFFSETFROM:-0500
TZOFFSETTO:-0400
TZNAME:EDT
DTSTART:20220313T070000
END:DAYLIGHT
BEGIN:STANDARD
TZOFFSETFROM:-0400
TZOFFSETTO:-0500
TZNAME:EST
DTSTART:20221106T060000
END:STANDARD
BEGIN:DAYLIGHT
TZOFFSETFROM:-0500
TZOFFSETTO:-0400
TZNAME:EDT
DTSTART:20230312T070000
END:DAYLIGHT
BEGIN:STANDARD
TZOFFSETFROM:-0400
TZOFFSETTO:-0500
TZNAME:EST
DTSTART:20231105T060000
END:STANDARD
BEGIN:DAYLIGHT
TZOFFSETFROM:-0500
TZOFFSETTO:-0400
TZNAME:EDT
DTSTART:20240310T070000
END:DAYLIGHT
BEGIN:STANDARD
TZOFFSETFROM:-0400
TZOFFSETTO:-0500
TZNAME:EST
DTSTART:20241103T060000
END:STANDARD
END:VTIMEZONE
BEGIN:VEVENT
DTSTART;VALUE=DATE:20230218
DTEND;VALUE=DATE:20230219
DTSTAMP:20260423T164833
CREATED:20230118T204853Z
LAST-MODIFIED:20230213T191707Z
UID:3190-1676678400-1676764799@www.ironheartcanning.com
SUMMARY:SPIRITS OF SOUTHERN MARYLAND
DESCRIPTION:Come out to the PAX River Naval Air Museum to sample incredible distilled spirits\, learn about preparing unique cocktails\, and experience hand-crafted cocktail mixers–all while learning about this awesome local industry.
URL:https://www.ironheartcanning.com/event/spirits-of-southern-maryland/
CATEGORIES:Spirits
END:VEVENT
BEGIN:VEVENT
DTSTART;VALUE=DATE:20230209
DTEND;VALUE=DATE:20230213
DTSTAMP:20260423T164833
CREATED:20221230T234904Z
LAST-MODIFIED:20230213T191636Z
UID:3148-1675900800-1676246399@www.ironheartcanning.com
SUMMARY:American Craft Spirits Association Conference
DESCRIPTION:Developed for the community of craft spirits producers\, the ACSA Distillers’ Convention and Vendor Trade Show brings together distillers and suppliers to harness the energy of the industry. In the past years\, ACSA has educated 1000s to strengthen the safety and prosperity of the trade and has provided a platform to network and explore products and services from our suppliers.
URL:https://www.ironheartcanning.com/event/american-craft-spirits-association-conference-2/
CATEGORIES:Spirits
END:VEVENT
END:VCALENDAR