BEGIN:VCALENDAR
VERSION:2.0
PRODID:-//Iron Heart Canning - ECPv6.15.20//NONSGML v1.0//EN
CALSCALE:GREGORIAN
METHOD:PUBLISH
X-ORIGINAL-URL:https://www.ironheartcanning.com
X-WR-CALDESC:Events for Iron Heart Canning
REFRESH-INTERVAL;VALUE=DURATION:PT1H
X-Robots-Tag:noindex
X-PUBLISHED-TTL:PT1H
BEGIN:VTIMEZONE
TZID:America/New_York
BEGIN:DAYLIGHT
TZOFFSETFROM:-0500
TZOFFSETTO:-0400
TZNAME:EDT
DTSTART:20220313T070000
END:DAYLIGHT
BEGIN:STANDARD
TZOFFSETFROM:-0400
TZOFFSETTO:-0500
TZNAME:EST
DTSTART:20221106T060000
END:STANDARD
BEGIN:DAYLIGHT
TZOFFSETFROM:-0500
TZOFFSETTO:-0400
TZNAME:EDT
DTSTART:20230312T070000
END:DAYLIGHT
BEGIN:STANDARD
TZOFFSETFROM:-0400
TZOFFSETTO:-0500
TZNAME:EST
DTSTART:20231105T060000
END:STANDARD
BEGIN:DAYLIGHT
TZOFFSETFROM:-0500
TZOFFSETTO:-0400
TZNAME:EDT
DTSTART:20240310T070000
END:DAYLIGHT
BEGIN:STANDARD
TZOFFSETFROM:-0400
TZOFFSETTO:-0500
TZNAME:EST
DTSTART:20241103T060000
END:STANDARD
END:VTIMEZONE
BEGIN:VEVENT
DTSTART;VALUE=DATE:20230315
DTEND;VALUE=DATE:20230317
DTSTAMP:20260423T164954
CREATED:20221230T234904Z
LAST-MODIFIED:20230213T191636Z
UID:3149-1678838400-1679011199@www.ironheartcanning.com
SUMMARY:Eastern Wine Expo
DESCRIPTION:As the largest industry event east of the Pacific states\, EWE is designed to provide Eastern U.S. and Canadian wineries\, vineyards and suppliers with an easily accessible\, affordable and professional meeting place\, trade show and Eastern-focused conference.
URL:https://www.ironheartcanning.com/event/eastern-wine-expo/
CATEGORIES:Wine
END:VEVENT
BEGIN:VEVENT
DTSTART;VALUE=DATE:20230202
DTEND;VALUE=DATE:20230205
DTSTAMP:20260423T164954
CREATED:20221230T221145Z
LAST-MODIFIED:20230213T191635Z
UID:3138-1675296000-1675555199@www.ironheartcanning.com
SUMMARY:North Carolina Winegrowers Conference
DESCRIPTION:
URL:https://www.ironheartcanning.com/event/north-carolina-winegrowers-conference/
CATEGORIES:Wine
END:VEVENT
END:VCALENDAR